BEGIN:VCALENDAR
VERSION:2.0
PRODID:GlueUp
CALSCALE:GREGORIAN
BEGIN:VTIMEZONE
TZID:UTC
BEGIN:STANDARD
DTSTART:19700101T000000
TZOFFSETFROM:+0000
TZOFFSETTO:+0000
TZNAME:UTC
END:STANDARD
END:VTIMEZONE
BEGIN:VEVENT
TZ:+00
ORGANIZER;CN=Flavia Gizzi:MAILTO:sh.events@cameraitacina.com
UID:22218-1777156943@https://cameraitacina.glueup.cn
DTSTAMP:20260425T224223Z
DTSTART:20190612T080000Z
DTEND:20190612T110000Z
SUMMARY:Industrial Park Series: The Integration of the Yangtze River Delta - Trend Analysis and Case studies
DESCRIPTION:Industrial Park Series: The Integration of the Yangtze River Delta - Trend Analysis and Case studies by Italian Chamber of Commerce in China\n\nJun 12, 2019 (4:00 PM - 7:00 PM)(GMT+8)\n\nFor more information, click here: https://cameraitacina.glueup.cn/my/events/22218
LOCATION:Four Seasons Hotel Shanghai - 上海四季酒店静安威海路500号 Shanghai - China
BEGIN:VALARM
TRIGGER:-PT48H
REPEAT:4
DURATION:PT30M
ACTION:DISPLAY
END:VALARM
END:VEVENT
END:VCALENDAR