BEGIN:VCALENDAR
VERSION:2.0
PRODID:GlueUp
CALSCALE:GREGORIAN
BEGIN:VTIMEZONE
TZID:UTC
BEGIN:STANDARD
DTSTART:19700101T000000
TZOFFSETFROM:+0000
TZOFFSETTO:+0000
TZNAME:UTC
END:STANDARD
END:VTIMEZONE
BEGIN:VEVENT
TZ:+00
ORGANIZER;CN=STAFF CCIC:MAILTO:elezioni2026@cameraitacina.com
UID:50123-1776885874@https://cameraitacina.glueup.cn
DTSTAMP:20260422T192434Z
DTSTART:20260430T060000Z
DTEND:20260430T070000Z
SUMMARY:Assemblea Generale Elettiva per Elezione Cariche Sociali 2026-2028 (Online)
DESCRIPTION:Assemblea Generale Elettiva per Elezione Cariche Sociali 2026-2028 (Online) by Italian Chamber of Commerce in China\n\nApril 30, 2026\n2:00 PM - 3:00 PM(GMT+8)\n\nFor more information and to attend the online event, click here:\n\nEvent Website: https://cameraitacina.glueup.cn/my/events/50123\n\nEvent Link: https://photoroc.zoom.us/j/95497591015
LOCATION:https://photoroc.zoom.us/j/95497591015
BEGIN:VALARM
TRIGGER:-PT1H
REPEAT:4
DURATION:PT15M
ACTION:DISPLAY
END:VALARM
END:VEVENT
END:VCALENDAR