BEGIN:VCALENDAR
VERSION:2.0
PRODID:GlueUp
CALSCALE:GREGORIAN
BEGIN:VTIMEZONE
TZID:UTC
BEGIN:STANDARD
DTSTART:19700101T000000
TZOFFSETFROM:+0000
TZOFFSETTO:+0000
TZNAME:UTC
END:STANDARD
END:VTIMEZONE
BEGIN:VEVENT
TZ:+00
ORGANIZER;CN=BJ Events:MAILTO:bj.events@cameraitacina.com
UID:44563-1776749789@https://cameraitacina.glueup.cn
DTSTAMP:20260421T053629Z
DTSTART:20240729T100000Z
DTEND:20240729T113000Z
SUMMARY:CICC & Confindustria China Roundtable
DESCRIPTION:CICC & Confindustria China Roundtable by Italian Chamber of Commerce in China\n\nJul 29, 2024 (6:00 PM - 7:30 PM)(GMT+8)\n\nFor more information, click here: https://cameraitacina.glueup.cn/my/events/44563
LOCATION:China World Hotel - N.1 Jianguomenwai Street - Chaoyang district 中国大饭店 - 朝阳区建国门外大街1号 Beijing - China
BEGIN:VALARM
TRIGGER:-PT48H
REPEAT:4
DURATION:PT30M
ACTION:DISPLAY
END:VALARM
END:VEVENT
END:VCALENDAR