BEGIN:VCALENDAR
VERSION:2.0
PRODID:GlueUp
CALSCALE:GREGORIAN
BEGIN:VTIMEZONE
TZID:UTC
BEGIN:STANDARD
DTSTART:19700101T000000
TZOFFSETFROM:+0000
TZOFFSETTO:+0000
TZNAME:UTC
END:STANDARD
END:VTIMEZONE
BEGIN:VEVENT
TZ:+00
ORGANIZER;CN=Communications Manager:MAILTO:communication@cameraitacina.com
UID:50285-1777118544@https://cameraitacina.glueup.cn
DTSTAMP:20260425T120224Z
DTSTART:20260509T013000Z
DTEND:20260509T033000Z
SUMMARY:Conversation with Federico Rampini
DESCRIPTION:Conversation with Federico Rampini by Italian Chamber of Commerce in China\n\nMay 9, 2026 (9:30 AM - 11:30 AM)(GMT+8)\n\nFor more information, click here: https://cameraitacina.glueup.cn/my/events/50285
LOCATION:Generali Hong Kong – Tsim Sha Tsui Centre - Suite 3402-05 - 34/F - The Gateway Tower 2 - Harbour City - Tsim Sha Tsui Hong Kong SAR (China)
BEGIN:VALARM
TRIGGER:-PT48H
REPEAT:4
DURATION:PT30M
ACTION:DISPLAY
END:VALARM
END:VEVENT
END:VCALENDAR