BEGIN:VCALENDAR
VERSION:2.0
PRODID:GlueUp
CALSCALE:GREGORIAN
BEGIN:VTIMEZONE
TZID:UTC
BEGIN:STANDARD
DTSTART:19700101T000000
TZOFFSETFROM:+0000
TZOFFSETTO:+0000
TZNAME:UTC
END:STANDARD
END:VTIMEZONE
BEGIN:VEVENT
TZ:+00
ORGANIZER;CN=CICC Shanghai Office:MAILTO:infoshanghai@cameraitacina.com
UID:29695-1777157520@https://cameraitacina.glueup.cn
DTSTAMP:20260425T225200Z
DTSTART:20201218T080000Z
DTEND:20201218T100000Z
SUMMARY:Entering the Chinese Market through the power of Social Networks in China
DESCRIPTION:Entering the Chinese Market through the power of Social Networks in China by Italian Chamber of Commerce in China\n\nDec 18, 2020 (4:00 PM - 6:00 PM)(GMT+8)\n\nFor more information, click here: https://cameraitacina.glueup.cn/my/events/29695
LOCATION:
BEGIN:VALARM
TRIGGER:-PT48H
REPEAT:4
DURATION:PT30M
ACTION:DISPLAY
END:VALARM
END:VEVENT
END:VCALENDAR