BEGIN:VCALENDAR
VERSION:2.0
PRODID:GlueUp
CALSCALE:GREGORIAN
BEGIN:VTIMEZONE
TZID:UTC
BEGIN:STANDARD
DTSTART:19700101T000000
TZOFFSETFROM:+0000
TZOFFSETTO:+0000
TZNAME:UTC
END:STANDARD
END:VTIMEZONE
BEGIN:VEVENT
TZ:+00
ORGANIZER;CN=CICC CICC SH Office:MAILTO:sh.events@cameraitacina.com
UID:48896-1777064029@https://cameraitacina.glueup.cn
DTSTAMP:20260424T205349Z
DTSTART:20251209T093000Z
DTEND:20251209T120000Z
SUMMARY:HRWG  Seminar event - The Hidden Formula of Great Teams
DESCRIPTION:HRWG  Seminar event - The Hidden Formula of Great Teams by Italian Chamber of Commerce in China\n\nDec 9, 2025 (5:30 PM - 8:00 PM)(GMT+8)\n\nFor more information, click here: https://cameraitacina.glueup.cn/my/events/48896
LOCATION:CBS Sunrise Office - Room 4601-03 - 46F - East Tower - No. 1089 Dongdaming Road - Raffles City the Bund - Hongkou District - Shanghai， 上海市虹口区东大名路1089号北外滩来福士广场东塔46楼4601-03室 Shanghai - China
BEGIN:VALARM
TRIGGER:-PT48H
REPEAT:4
DURATION:PT30M
ACTION:DISPLAY
END:VALARM
END:VEVENT
END:VCALENDAR