BEGIN:VCALENDAR
VERSION:2.0
PRODID:GlueUp
CALSCALE:GREGORIAN
BEGIN:VTIMEZONE
TZID:UTC
BEGIN:STANDARD
DTSTART:19700101T000000
TZOFFSETFROM:+0000
TZOFFSETTO:+0000
TZNAME:UTC
END:STANDARD
END:VTIMEZONE
BEGIN:VEVENT
TZ:+00
ORGANIZER;CN=Flavia Gizzi:MAILTO:sh.events@cameraitacina.com
UID:21650-1776738452@https://cameraitacina.glueup.cn
DTSTAMP:20260421T022732Z
DTSTART:20190522T103000Z
DTEND:20190522T140000Z
SUMMARY:InterChamber Spring Mixer
DESCRIPTION:InterChamber Spring Mixer by Italian Chamber of Commerce in China\n\nMay 22, 2019 (6:30 PM - 10:00 PM)(GMT+8)\n\nFor more information, click here: https://cameraitacina.glueup.cn/my/events/21650
LOCATION:88 Huachi St - Huachi Street 88 Suzhou Shi - Jiangsu Sheng - China
BEGIN:VALARM
TRIGGER:-PT48H
REPEAT:4
DURATION:PT30M
ACTION:DISPLAY
END:VALARM
END:VEVENT
END:VCALENDAR