BEGIN:VCALENDAR
VERSION:2.0
PRODID:GlueUp
CALSCALE:GREGORIAN
BEGIN:VTIMEZONE
TZID:UTC
BEGIN:STANDARD
DTSTART:19700101T000000
TZOFFSETFROM:+0000
TZOFFSETTO:+0000
TZNAME:UTC
END:STANDARD
END:VTIMEZONE
BEGIN:VEVENT
TZ:+00
ORGANIZER;CN=Info CICC:MAILTO:info@cameraitacina.com
UID:38094-1776640916@https://cameraitacina.glueup.cn
DTSTAMP:20260419T232156Z
DTSTART:20221013T140000Z
DTEND:20221013T153000Z
SUMMARY:IP Protection Days: China Marketplaces
DESCRIPTION:IP Protection Days: China Marketplaces by Italian Chamber of Commerce in China\n\nOctober 13, 2022\n4:00 PM - 5:30 PM(GMT+2)\n\nFor more information and to attend the online event, click here:\n\nEvent Website: https://cameraitacina.glueup.cn/my/events/38094\n\nEvent Link: https://us02web.zoom.us/j/85152018444
LOCATION:https://us02web.zoom.us/j/85152018444
BEGIN:VALARM
TRIGGER:-PT1H
REPEAT:4
DURATION:PT15M
ACTION:DISPLAY
END:VALARM
END:VEVENT
END:VCALENDAR