BEGIN:VCALENDAR
VERSION:2.0
PRODID:GlueUp
CALSCALE:GREGORIAN
BEGIN:VTIMEZONE
TZID:UTC
BEGIN:STANDARD
DTSTART:19700101T000000
TZOFFSETFROM:+0000
TZOFFSETTO:+0000
TZNAME:UTC
END:STANDARD
END:VTIMEZONE
BEGIN:VEVENT
TZ:+00
ORGANIZER;CN=Info CICC:MAILTO:info@cameraitacina.com
UID:33496-1777015864@https://cameraitacina.glueup.cn
DTSTAMP:20260424T073104Z
DTSTART:20210910T080000Z
DTEND:20210910T100000Z
SUMMARY:Overview on China's Biopharma Sector: Market Access and IP rights
DESCRIPTION:Overview on China's Biopharma Sector: Market Access and IP rights by Italian Chamber of Commerce in China\n\nSeptember 10, 2021\n4:00 PM - 6:00 PM(GMT+8)\n\nFor more information and to attend the online event, click here:\n\nEvent Website: https://cameraitacina.glueup.cn/my/events/33496\n\nEvent Link: https://us02web.zoom.us/j/87390795073
LOCATION:https://us02web.zoom.us/j/87390795073
BEGIN:VALARM
TRIGGER:-PT1H
REPEAT:4
DURATION:PT15M
ACTION:DISPLAY
END:VALARM
END:VEVENT
END:VCALENDAR