BEGIN:VCALENDAR
VERSION:2.0
PRODID:GlueUp
CALSCALE:GREGORIAN
BEGIN:VTIMEZONE
TZID:UTC
BEGIN:STANDARD
DTSTART:19700101T000000
TZOFFSETFROM:+0000
TZOFFSETTO:+0000
TZNAME:UTC
END:STANDARD
END:VTIMEZONE
BEGIN:VEVENT
TZ:+00
ORGANIZER;CN=CICC CQ:MAILTO:infochongqing@cameraitacina.com
UID:24242-1776691848@https://cameraitacina.glueup.cn
DTSTAMP:20260420T133048Z
DTSTART:20191029T060000Z
DTEND:20191029T083000Z
SUMMARY:Seminar "Italian Visa for Chinese Investors", October 29th - Chongqing
DESCRIPTION:Seminar "Italian Visa for Chinese Investors", October 29th - Chongqing by Italian Chamber of Commerce in China\n\nOct 29, 2019 (2:00 PM - 4:30 PM)(GMT+8)\n\nFor more information, click here: https://cameraitacina.glueup.cn/my/events/24242
LOCATION:Chongqing Liangjiang International cooperation centre - Chongqing - China
BEGIN:VALARM
TRIGGER:-PT48H
REPEAT:4
DURATION:PT30M
ACTION:DISPLAY
END:VALARM
END:VEVENT
END:VCALENDAR