BEGIN:VCALENDAR
VERSION:2.0
PRODID:GlueUp
CALSCALE:GREGORIAN
BEGIN:VTIMEZONE
TZID:UTC
BEGIN:STANDARD
DTSTART:19700101T000000
TZOFFSETFROM:+0000
TZOFFSETTO:+0000
TZNAME:UTC
END:STANDARD
END:VTIMEZONE
BEGIN:VEVENT
TZ:+00
ORGANIZER;CN=Info CICC:MAILTO:info@cameraitacina.com
UID:31181-1777113282@https://cameraitacina.glueup.cn
DTSTAMP:20260425T103442Z
DTSTART:20210406T050001Z
DTEND:20210406T050001Z
SUMMARY:Workshop “Financing for SMEs: tools and best practice”,6th April
DESCRIPTION:Workshop “Financing for SMEs: tools and best practice”,6th April by Italian Chamber of Commerce in China\n\nApr 6, 2021(GMT-5)\n\nFor more information, click here: https://cameraitacina.glueup.cn/my/events/31181
LOCATION:ONLINE - China
BEGIN:VALARM
TRIGGER:-PT48H
REPEAT:4
DURATION:PT30M
ACTION:DISPLAY
END:VALARM
END:VEVENT
END:VCALENDAR