BEGIN:VCALENDAR
VERSION:2.0
PRODID:GlueUp
CALSCALE:GREGORIAN
BEGIN:VTIMEZONE
TZID:UTC
BEGIN:STANDARD
DTSTART:19700101T000000
TZOFFSETFROM:+0000
TZOFFSETTO:+0000
TZNAME:UTC
END:STANDARD
END:VTIMEZONE
BEGIN:VEVENT
TZ:+00
ORGANIZER;CN=Aurora Di Muzio:MAILTO:bj.events@cameraitacina.com
UID:50226-1776885495@https://cameraitacina.glueup.cn
DTSTAMP:20260422T191815Z
DTSTART:20260606T060000Z
DTEND:20260606T103000Z
SUMMARY:XIII Edition of Beijing Career Day
DESCRIPTION:XIII Edition of Beijing Career Day by Italian Chamber of Commerce in China\n\nJun 6, 2026 (2:00 PM - 6:30 PM)(GMT+8)\n\nFor more information, click here: https://cameraitacina.glueup.cn/my/events/50226
LOCATION:Istituto Italiano di Cultura di Pechino - San Li Tun - Dong Er Jie 2  100600 Beijing - China
BEGIN:VALARM
TRIGGER:-PT48H
REPEAT:4
DURATION:PT30M
ACTION:DISPLAY
END:VALARM
END:VEVENT
END:VCALENDAR